BEGIN:VCALENDAR
VERSION:2.0
PRODID:-//wp-events-plugin.com//7.2.3.1//EN
TZID:Europe/Paris
X-WR-TIMEZONE:Europe/Paris
BEGIN:VEVENT
UID:21@dunenaturealautre.com
DTSTART;TZID=Europe/Paris:20241030T100000
DTEND;TZID=Europe/Paris:20241030T170000
DTSTAMP:20240921T121940Z
URL:https://dunenaturealautre.com/evenements/hello-nature-5/
SUMMARY:Hello Nature
DESCRIPTION:Pour profitez du jardin\, des espaces de jeux et de détente...
 \n\nPour jouer et laissez jouer ...\n\nPique Nique possible sur place.\n\n
 Sans réservation.\n\n10€
ATTACH;FMTTYPE=image/jpeg:https://dunenaturealautre.com/wp-content/uploads
 /2024/06/logo-edited.jpg
LOCATION:D'une Nature à l'Autre\, La Minière\, Monnières\, 44690\, Franc
 e
X-APPLE-STRUCTURED-LOCATION;VALUE=URI;X-ADDRESS=La Minière\, Monnières\, 
 44690\, France;X-APPLE-RADIUS=100;X-TITLE=D'une Nature à l'Autre:geo:0,0
END:VEVENT
BEGIN:VTIMEZONE
TZID:Europe/Paris
X-LIC-LOCATION:Europe/Paris
BEGIN:STANDARD
DTSTART:20241027T020000
TZOFFSETFROM:+0200
TZOFFSETTO:+0100
TZNAME:CET
END:STANDARD
END:VTIMEZONE
END:VCALENDAR